BEGIN:VCALENDAR
VERSION:2.0
PRODID:-//Webseite des TC Eggenfelden e.V. - ECPv6.0.9//NONSGML v1.0//EN
CALSCALE:GREGORIAN
METHOD:PUBLISH
X-WR-CALNAME:Webseite des TC Eggenfelden e.V.
X-ORIGINAL-URL:https://tc-eggenfelden.de
X-WR-CALDESC:Veranstaltungen für Webseite des TC Eggenfelden e.V.
REFRESH-INTERVAL;VALUE=DURATION:PT1H
X-Robots-Tag:noindex
X-PUBLISHED-TTL:PT1H
BEGIN:VTIMEZONE
TZID:Europe/Berlin
BEGIN:DAYLIGHT
TZOFFSETFROM:+0100
TZOFFSETTO:+0200
TZNAME:CEST
DTSTART:20220327T010000
END:DAYLIGHT
BEGIN:STANDARD
TZOFFSETFROM:+0200
TZOFFSETTO:+0100
TZNAME:CET
DTSTART:20221030T010000
END:STANDARD
END:VTIMEZONE
BEGIN:VEVENT
DTSTART;TZID=Europe/Berlin:20220220T110000
DTEND;TZID=Europe/Berlin:20220220T150000
DTSTAMP:20260426T020751
CREATED:20220113T070837Z
LAST-MODIFIED:20220116T200614Z
UID:73508-1645354800-1645369200@tc-eggenfelden.de
SUMMARY:Winterrunde Heimspiel ab 11 Uhr
DESCRIPTION:Herren 40 – TSV Vilsheim
URL:https://tc-eggenfelden.de/event/winterrunde-heimspiel-3/
CATEGORIES:Wettspielbetrieb
END:VEVENT
END:VCALENDAR