BEGIN:VCALENDAR
VERSION:2.0
PRODID:-//Webseite des TC Eggenfelden e.V. - ECPv6.0.9//NONSGML v1.0//EN
CALSCALE:GREGORIAN
METHOD:PUBLISH
X-ORIGINAL-URL:https://tc-eggenfelden.de
X-WR-CALDESC:Veranstaltungen für Webseite des TC Eggenfelden e.V.
REFRESH-INTERVAL;VALUE=DURATION:PT1H
X-Robots-Tag:noindex
X-PUBLISHED-TTL:PT1H
BEGIN:VTIMEZONE
TZID:Europe/Berlin
BEGIN:DAYLIGHT
TZOFFSETFROM:+0100
TZOFFSETTO:+0200
TZNAME:CEST
DTSTART:20220327T010000
END:DAYLIGHT
BEGIN:STANDARD
TZOFFSETFROM:+0200
TZOFFSETTO:+0100
TZNAME:CET
DTSTART:20221030T010000
END:STANDARD
END:VTIMEZONE
BEGIN:VEVENT
DTSTART;TZID=Europe/Berlin:20220319T160000
DTEND;TZID=Europe/Berlin:20220319T233000
DTSTAMP:20260426T001144
CREATED:20220309T195208Z
LAST-MODIFIED:20220313T095521Z
UID:73781-1647705600-1647732600@tc-eggenfelden.de
SUMMARY:Starkbierfest (Organisiert vom Bistro am Tennisplatz) ab 16 Uhr
DESCRIPTION:Starkbierfest als Saisonopening im Bistro am Tennisplatz für Jedermann \nzum Essen gibts eine Kistensau (Spanferkel aus der Kiste ;-) )
URL:https://tc-eggenfelden.de/event/saisonopening-ab-16-uhr/
CATEGORIES:Verein
END:VEVENT
END:VCALENDAR