BEGIN:VCALENDAR
VERSION:2.0
PRODID:-//Webseite des TC Eggenfelden e.V. - ECPv6.0.9//NONSGML v1.0//EN
CALSCALE:GREGORIAN
METHOD:PUBLISH
X-WR-CALNAME:Webseite des TC Eggenfelden e.V.
X-ORIGINAL-URL:https://tc-eggenfelden.de
X-WR-CALDESC:Veranstaltungen für Webseite des TC Eggenfelden e.V.
REFRESH-INTERVAL;VALUE=DURATION:PT1H
X-Robots-Tag:noindex
X-PUBLISHED-TTL:PT1H
BEGIN:VTIMEZONE
TZID:Europe/Berlin
BEGIN:DAYLIGHT
TZOFFSETFROM:+0100
TZOFFSETTO:+0200
TZNAME:CEST
DTSTART:20220327T010000
END:DAYLIGHT
BEGIN:STANDARD
TZOFFSETFROM:+0200
TZOFFSETTO:+0100
TZNAME:CET
DTSTART:20221030T010000
END:STANDARD
END:VTIMEZONE
BEGIN:VEVENT
DTSTART;VALUE=DATE:20220409
DTEND;VALUE=DATE:20220410
DTSTAMP:20260425T220749
CREATED:20220326T201035Z
LAST-MODIFIED:20220401T131244Z
UID:73893-1649462400-1649548799@tc-eggenfelden.de
SUMMARY:Auswintern Teil 2 ab ca. 9 Uhr
DESCRIPTION:Netze aufhängen und kleine Restarbeiten müssen noch erledigt werden – hierzu benötigen wir wieder Eure Unterstützung
URL:https://tc-eggenfelden.de/event/auswintern-teil-2-ab-ca-9-uhr/
CATEGORIES:Verein
END:VEVENT
END:VCALENDAR