BEGIN:VCALENDAR
VERSION:2.0
PRODID:-//Webseite des TC Eggenfelden e.V. - ECPv6.0.9//NONSGML v1.0//EN
CALSCALE:GREGORIAN
METHOD:PUBLISH
X-ORIGINAL-URL:https://tc-eggenfelden.de
X-WR-CALDESC:Veranstaltungen für Webseite des TC Eggenfelden e.V.
REFRESH-INTERVAL;VALUE=DURATION:PT1H
X-Robots-Tag:noindex
X-PUBLISHED-TTL:PT1H
BEGIN:VTIMEZONE
TZID:Europe/Berlin
BEGIN:DAYLIGHT
TZOFFSETFROM:+0100
TZOFFSETTO:+0200
TZNAME:CEST
DTSTART:20220327T010000
END:DAYLIGHT
BEGIN:STANDARD
TZOFFSETFROM:+0200
TZOFFSETTO:+0100
TZNAME:CET
DTSTART:20221030T010000
END:STANDARD
END:VTIMEZONE
BEGIN:VEVENT
DTSTART;VALUE=DATE:20220515
DTEND;VALUE=DATE:20220516
DTSTAMP:20260425T201257
CREATED:20220322T202516Z
LAST-MODIFIED:20220322T210740Z
UID:73849-1652572800-1652659199@tc-eggenfelden.de
SUMMARY:2. Spieltag Heimspiele Sonntag ab 10 Uhr
DESCRIPTION:Damen – TC Oberpöring II\, Herren II – TSV Massing\, Herren III – SC Falkenberg\, Midcourt U10 – TC Rot-Weiß Landshut ( 15:30 Uhr )
URL:https://tc-eggenfelden.de/event/2-spieltag-heimspiele-sonntag-ab-10-uhr/
CATEGORIES:Wettspielbetrieb
END:VEVENT
END:VCALENDAR