BEGIN:VCALENDAR
VERSION:2.0
PRODID:-//Webseite des TC Eggenfelden e.V. - ECPv6.0.9//NONSGML v1.0//EN
CALSCALE:GREGORIAN
METHOD:PUBLISH
X-WR-CALNAME:Webseite des TC Eggenfelden e.V.
X-ORIGINAL-URL:https://tc-eggenfelden.de
X-WR-CALDESC:Veranstaltungen für Webseite des TC Eggenfelden e.V.
REFRESH-INTERVAL;VALUE=DURATION:PT1H
X-Robots-Tag:noindex
X-PUBLISHED-TTL:PT1H
BEGIN:VTIMEZONE
TZID:Europe/Berlin
BEGIN:DAYLIGHT
TZOFFSETFROM:+0100
TZOFFSETTO:+0200
TZNAME:CEST
DTSTART:20220327T010000
END:DAYLIGHT
BEGIN:STANDARD
TZOFFSETFROM:+0200
TZOFFSETTO:+0100
TZNAME:CET
DTSTART:20221030T010000
END:STANDARD
END:VTIMEZONE
BEGIN:VEVENT
DTSTART;VALUE=DATE:20220521
DTEND;VALUE=DATE:20220522
DTSTAMP:20260425T200702
CREATED:20220322T194020Z
LAST-MODIFIED:20220322T203851Z
UID:73827-1653091200-1653177599@tc-eggenfelden.de
SUMMARY:3. Spieltag Heimspiele Samstag ab 9 Uhr
DESCRIPTION:Junioren – TC Rot-Weiß Landshut II\, Juniorinnen – SV Wacker Burghausen II\, Bambini II – TC Unterrohrbach \n 
URL:https://tc-eggenfelden.de/event/3-spieltag-heimspiele/
CATEGORIES:Wettspielbetrieb
END:VEVENT
END:VCALENDAR