BEGIN:VCALENDAR
VERSION:2.0
PRODID:-//Webseite des TC Eggenfelden e.V. - ECPv6.0.9//NONSGML v1.0//EN
CALSCALE:GREGORIAN
METHOD:PUBLISH
X-ORIGINAL-URL:https://tc-eggenfelden.de
X-WR-CALDESC:Veranstaltungen für Webseite des TC Eggenfelden e.V.
REFRESH-INTERVAL;VALUE=DURATION:PT1H
X-Robots-Tag:noindex
X-PUBLISHED-TTL:PT1H
BEGIN:VTIMEZONE
TZID:Europe/Berlin
BEGIN:DAYLIGHT
TZOFFSETFROM:+0100
TZOFFSETTO:+0200
TZNAME:CEST
DTSTART:20220327T010000
END:DAYLIGHT
BEGIN:STANDARD
TZOFFSETFROM:+0200
TZOFFSETTO:+0100
TZNAME:CET
DTSTART:20221030T010000
END:STANDARD
END:VTIMEZONE
BEGIN:VEVENT
DTSTART;VALUE=DATE:20220605
DTEND;VALUE=DATE:20220606
DTSTAMP:20260425T182857
CREATED:20220528T064110Z
LAST-MODIFIED:20220528T064110Z
UID:74059-1654387200-1654473599@tc-eggenfelden.de
SUMMARY:4. Spieltag Heimspiele Sonntag ab 10 Uhr
DESCRIPTION:Herren II – TSG Postmünster
URL:https://tc-eggenfelden.de/event/4-spieltag-heimspiele-sonntag-ab-10-uhr-2/
CATEGORIES:Wettspielbetrieb
END:VEVENT
END:VCALENDAR