BEGIN:VCALENDAR
VERSION:2.0
PRODID:-//Webseite des TC Eggenfelden e.V. - ECPv6.0.9//NONSGML v1.0//EN
CALSCALE:GREGORIAN
METHOD:PUBLISH
X-ORIGINAL-URL:https://tc-eggenfelden.de
X-WR-CALDESC:Veranstaltungen für Webseite des TC Eggenfelden e.V.
REFRESH-INTERVAL;VALUE=DURATION:PT1H
X-Robots-Tag:noindex
X-PUBLISHED-TTL:PT1H
BEGIN:VTIMEZONE
TZID:Europe/Berlin
BEGIN:DAYLIGHT
TZOFFSETFROM:+0100
TZOFFSETTO:+0200
TZNAME:CEST
DTSTART:20220327T010000
END:DAYLIGHT
BEGIN:STANDARD
TZOFFSETFROM:+0200
TZOFFSETTO:+0100
TZNAME:CET
DTSTART:20221030T010000
END:STANDARD
END:VTIMEZONE
BEGIN:VEVENT
DTSTART;VALUE=DATE:20220625
DTEND;VALUE=DATE:20220626
DTSTAMP:20260425T182840
CREATED:20220322T194708Z
LAST-MODIFIED:20220322T213916Z
UID:73831-1656115200-1656201599@tc-eggenfelden.de
SUMMARY:5. Spieltag Heimspiele Samstag ab 9 Uhr
DESCRIPTION:Juniorinnen – TeG Mühldorf\, Bambini II – SV Gendorf Burgkirchen\, Bambini – TC Hengersberg ( 10 Uhr )\, Herren 40 – TeG Mühldorf III ( 14 Uhr ) \n 
URL:https://tc-eggenfelden.de/event/5-spieltag-heimspiele/
CATEGORIES:Wettspielbetrieb
END:VEVENT
END:VCALENDAR