BEGIN:VCALENDAR
VERSION:2.0
PRODID:-//Webseite des TC Eggenfelden e.V. - ECPv6.0.9//NONSGML v1.0//EN
CALSCALE:GREGORIAN
METHOD:PUBLISH
X-ORIGINAL-URL:https://tc-eggenfelden.de
X-WR-CALDESC:Veranstaltungen für Webseite des TC Eggenfelden e.V.
REFRESH-INTERVAL;VALUE=DURATION:PT1H
X-Robots-Tag:noindex
X-PUBLISHED-TTL:PT1H
BEGIN:VTIMEZONE
TZID:Europe/Berlin
BEGIN:DAYLIGHT
TZOFFSETFROM:+0100
TZOFFSETTO:+0200
TZNAME:CEST
DTSTART:20220327T010000
END:DAYLIGHT
BEGIN:STANDARD
TZOFFSETFROM:+0200
TZOFFSETTO:+0100
TZNAME:CET
DTSTART:20221030T010000
END:STANDARD
END:VTIMEZONE
BEGIN:VEVENT
DTSTART;VALUE=DATE:20220708
DTEND;VALUE=DATE:20220709
DTSTAMP:20260425T164155
CREATED:20220503T162108Z
LAST-MODIFIED:20220503T162108Z
UID:73977-1657238400-1657324799@tc-eggenfelden.de
SUMMARY:7. Spieltag Heimspiele Freitag ab 16 Uhr
DESCRIPTION:Spielgemeinschaft Knaben 15- TC Rot- Weiß Passau
URL:https://tc-eggenfelden.de/event/7-spieltag-heimspiele-freitag-ab-16-uhr/
CATEGORIES:Wettspielbetrieb
END:VEVENT
END:VCALENDAR