BEGIN:VCALENDAR
VERSION:2.0
PRODID:-//Webseite des TC Eggenfelden e.V. - ECPv6.0.9//NONSGML v1.0//EN
CALSCALE:GREGORIAN
METHOD:PUBLISH
X-WR-CALNAME:Webseite des TC Eggenfelden e.V.
X-ORIGINAL-URL:https://tc-eggenfelden.de
X-WR-CALDESC:Veranstaltungen für Webseite des TC Eggenfelden e.V.
REFRESH-INTERVAL;VALUE=DURATION:PT1H
X-Robots-Tag:noindex
X-PUBLISHED-TTL:PT1H
BEGIN:VTIMEZONE
TZID:Europe/Berlin
BEGIN:DAYLIGHT
TZOFFSETFROM:+0100
TZOFFSETTO:+0200
TZNAME:CEST
DTSTART:20220327T010000
END:DAYLIGHT
BEGIN:STANDARD
TZOFFSETFROM:+0200
TZOFFSETTO:+0100
TZNAME:CET
DTSTART:20221030T010000
END:STANDARD
END:VTIMEZONE
BEGIN:VEVENT
DTSTART;VALUE=DATE:20220710
DTEND;VALUE=DATE:20220711
DTSTAMP:20260425T163916
CREATED:20220322T195725Z
LAST-MODIFIED:20220702T193036Z
UID:73835-1657411200-1657497599@tc-eggenfelden.de
SUMMARY:7. Spieltag Heimspiele Sonntag ab 10 Uhr
DESCRIPTION:Damen – OFV Aich\, Damen II – TeG Mittlere Vils II\, Bambini 12 – TC Vilshofen
URL:https://tc-eggenfelden.de/event/7-spieltag-heimspiele/
CATEGORIES:Wettspielbetrieb
END:VEVENT
END:VCALENDAR