BEGIN:VCALENDAR
VERSION:2.0
PRODID:-//Webseite des TC Eggenfelden e.V. - ECPv6.0.9//NONSGML v1.0//EN
CALSCALE:GREGORIAN
METHOD:PUBLISH
X-ORIGINAL-URL:https://tc-eggenfelden.de
X-WR-CALDESC:Veranstaltungen für Webseite des TC Eggenfelden e.V.
REFRESH-INTERVAL;VALUE=DURATION:PT1H
X-Robots-Tag:noindex
X-PUBLISHED-TTL:PT1H
BEGIN:VTIMEZONE
TZID:Europe/Berlin
BEGIN:DAYLIGHT
TZOFFSETFROM:+0100
TZOFFSETTO:+0200
TZNAME:CEST
DTSTART:20230326T010000
END:DAYLIGHT
BEGIN:STANDARD
TZOFFSETFROM:+0200
TZOFFSETTO:+0100
TZNAME:CET
DTSTART:20231029T010000
END:STANDARD
END:VTIMEZONE
BEGIN:VEVENT
DTSTART;VALUE=DATE:20230617
DTEND;VALUE=DATE:20230618
DTSTAMP:20260424T205011
CREATED:20230307T095311Z
LAST-MODIFIED:20230307T095311Z
UID:74397-1686960000-1687046399@tc-eggenfelden.de
SUMMARY:Heimspiel ab 14 Uhr
DESCRIPTION:Herren 30 – TC 88 Waldkirchen
URL:https://tc-eggenfelden.de/event/heimspiel-ab-14-uhr-5/
CATEGORIES:Wettspielbetrieb
END:VEVENT
END:VCALENDAR