BEGIN:VCALENDAR
VERSION:2.0
PRODID:-//Webseite des TC Eggenfelden e.V. - ECPv6.0.9//NONSGML v1.0//EN
CALSCALE:GREGORIAN
METHOD:PUBLISH
X-ORIGINAL-URL:https://tc-eggenfelden.de
X-WR-CALDESC:Veranstaltungen für Webseite des TC Eggenfelden e.V.
REFRESH-INTERVAL;VALUE=DURATION:PT1H
X-Robots-Tag:noindex
X-PUBLISHED-TTL:PT1H
BEGIN:VTIMEZONE
TZID:Europe/Berlin
BEGIN:DAYLIGHT
TZOFFSETFROM:+0100
TZOFFSETTO:+0200
TZNAME:CEST
DTSTART:20220327T010000
END:DAYLIGHT
BEGIN:STANDARD
TZOFFSETFROM:+0200
TZOFFSETTO:+0100
TZNAME:CET
DTSTART:20221030T010000
END:STANDARD
END:VTIMEZONE
BEGIN:VEVENT
DTSTART;TZID=Europe/Berlin:20221211T110000
DTEND;TZID=Europe/Berlin:20221211T160000
DTSTAMP:20260425T055533
CREATED:20220925T121759Z
LAST-MODIFIED:20220925T121759Z
UID:74184-1670756400-1670774400@tc-eggenfelden.de
SUMMARY:Heimspiel Winterrunde
DESCRIPTION:Damen 2 vs. TC Wallerfing-Ramsdorf ab 11 Uhr
URL:https://tc-eggenfelden.de/event/heimspiel-winterrunde-5/
CATEGORIES:Wettspielbetrieb
END:VEVENT
BEGIN:VEVENT
DTSTART;TZID=Europe/Berlin:20221217T160000
DTEND;TZID=Europe/Berlin:20221217T233000
DTSTAMP:20260425T055533
CREATED:20221110T204141Z
LAST-MODIFIED:20221110T204141Z
UID:74305-1671292800-1671319800@tc-eggenfelden.de
SUMMARY:Christkindlmarkt / Weihnachtsfeier ab 16 Uhr
DESCRIPTION:auf der Außenanlage
URL:https://tc-eggenfelden.de/event/christkindlmarkt-weihnachtsfeier-ab-16-uhr/
CATEGORIES:Verein
END:VEVENT
BEGIN:VEVENT
DTSTART;TZID=Europe/Berlin:20221227T140000
DTEND;TZID=Europe/Berlin:20221227T180000
DTSTAMP:20260425T055533
CREATED:20221211T163920Z
LAST-MODIFIED:20221211T163920Z
UID:74318-1672149600-1672164000@tc-eggenfelden.de
SUMMARY:After-Christmas Schleiferlturnier
DESCRIPTION:14 – 18 Uhr \nAnmeldung ab sofort am Aushang beim Bürofenster oder per E-Mail an halle@tceggenfelden.de
URL:https://tc-eggenfelden.de/event/after-christmas-schleiferlturnier/
CATEGORIES:Verein
END:VEVENT
END:VCALENDAR