BEGIN:VCALENDAR
VERSION:2.0
PRODID:-//Webseite des TC Eggenfelden e.V. - ECPv6.0.9//NONSGML v1.0//EN
CALSCALE:GREGORIAN
METHOD:PUBLISH
X-ORIGINAL-URL:https://tc-eggenfelden.de
X-WR-CALDESC:Veranstaltungen für Webseite des TC Eggenfelden e.V.
REFRESH-INTERVAL;VALUE=DURATION:PT1H
X-Robots-Tag:noindex
X-PUBLISHED-TTL:PT1H
BEGIN:VTIMEZONE
TZID:Europe/Berlin
BEGIN:DAYLIGHT
TZOFFSETFROM:+0100
TZOFFSETTO:+0200
TZNAME:CEST
DTSTART:20230326T010000
END:DAYLIGHT
BEGIN:STANDARD
TZOFFSETFROM:+0200
TZOFFSETTO:+0100
TZNAME:CET
DTSTART:20231029T010000
END:STANDARD
END:VTIMEZONE
BEGIN:VEVENT
DTSTART;TZID=Europe/Berlin:20230205T110000
DTEND;TZID=Europe/Berlin:20230205T160000
DTSTAMP:20260425T021230
CREATED:20220925T122128Z
LAST-MODIFIED:20220925T122128Z
UID:74190-1675594800-1675612800@tc-eggenfelden.de
SUMMARY:Heimspiel Winterrunde
DESCRIPTION:Herren 40 vs. TC Rot-Weiß Deggendorf ab 11 Uhr
URL:https://tc-eggenfelden.de/event/heimspiel-winterrunde-8/
CATEGORIES:Wettspielbetrieb
END:VEVENT
BEGIN:VEVENT
DTSTART;TZID=Europe/Berlin:20230212T110000
DTEND;TZID=Europe/Berlin:20230212T160000
DTSTAMP:20260425T021230
CREATED:20220925T122242Z
LAST-MODIFIED:20220925T122242Z
UID:74192-1676199600-1676217600@tc-eggenfelden.de
SUMMARY:Heimspiel Winterrunde
DESCRIPTION:Damen 1 vs. VfL Waldkraiburg ab 11 Uhr
URL:https://tc-eggenfelden.de/event/heimspiel-winterrunde-9/
CATEGORIES:Wettspielbetrieb
END:VEVENT
BEGIN:VEVENT
DTSTART;TZID=Europe/Berlin:20230219T110000
DTEND;TZID=Europe/Berlin:20230219T160000
DTSTAMP:20260425T021230
CREATED:20220925T122356Z
LAST-MODIFIED:20220925T122356Z
UID:74194-1676804400-1676822400@tc-eggenfelden.de
SUMMARY:Heimspiel Winterrunde
DESCRIPTION:Herren 1 vs. DJK Windorf ab 11 Uhr
URL:https://tc-eggenfelden.de/event/heimspiel-winterrunde-10/
CATEGORIES:Wettspielbetrieb
END:VEVENT
END:VCALENDAR