BEGIN:VCALENDAR
VERSION:2.0
PRODID:-//Webseite des TC Eggenfelden e.V. - ECPv6.0.9//NONSGML v1.0//EN
CALSCALE:GREGORIAN
METHOD:PUBLISH
X-ORIGINAL-URL:https://tc-eggenfelden.de
X-WR-CALDESC:Veranstaltungen für Webseite des TC Eggenfelden e.V.
REFRESH-INTERVAL;VALUE=DURATION:PT1H
X-Robots-Tag:noindex
X-PUBLISHED-TTL:PT1H
BEGIN:VTIMEZONE
TZID:Europe/Berlin
BEGIN:DAYLIGHT
TZOFFSETFROM:+0100
TZOFFSETTO:+0200
TZNAME:CEST
DTSTART:20230326T010000
END:DAYLIGHT
BEGIN:STANDARD
TZOFFSETFROM:+0200
TZOFFSETTO:+0100
TZNAME:CET
DTSTART:20231029T010000
END:STANDARD
END:VTIMEZONE
BEGIN:VEVENT
DTSTART;VALUE=DATE:20230505
DTEND;VALUE=DATE:20230506
DTSTAMP:20260424T205334
CREATED:20230307T093559Z
LAST-MODIFIED:20230307T093559Z
UID:74369-1683244800-1683331199@tc-eggenfelden.de
SUMMARY:Heimspiel ab 15 Uhr
DESCRIPTION:Dunlop Kleinfeld U9 – SV Frauenbiburg
URL:https://tc-eggenfelden.de/event/heimspiel-ab-15-uhr/
CATEGORIES:Wettspielbetrieb
END:VEVENT
BEGIN:VEVENT
DTSTART;VALUE=DATE:20230506
DTEND;VALUE=DATE:20230507
DTSTAMP:20260424T205334
CREATED:20230307T093711Z
LAST-MODIFIED:20230307T094020Z
UID:74371-1683331200-1683417599@tc-eggenfelden.de
SUMMARY:Heimspiel ab 9 Uhr
DESCRIPTION:Juniorinnen 18 – TeG Mühldorf // \nJunioren 18 – DJK-TC Büchlberg
URL:https://tc-eggenfelden.de/event/heimspiel-ab-9-uhr/
CATEGORIES:Wettspielbetrieb
END:VEVENT
BEGIN:VEVENT
DTSTART;VALUE=DATE:20230506
DTEND;VALUE=DATE:20230507
DTSTAMP:20260424T205334
CREATED:20230307T093759Z
LAST-MODIFIED:20230330T185427Z
UID:74373-1683331200-1683417599@tc-eggenfelden.de
SUMMARY:Heimspiel ab 14 Uhr
DESCRIPTION:Herren 40 – TSV Tann
URL:https://tc-eggenfelden.de/event/heimspiel-ab-14-uhr/
CATEGORIES:Wettspielbetrieb
END:VEVENT
BEGIN:VEVENT
DTSTART;VALUE=DATE:20230507
DTEND;VALUE=DATE:20230508
DTSTAMP:20260424T205334
CREATED:20230307T094211Z
LAST-MODIFIED:20230307T094211Z
UID:74379-1683417600-1683503999@tc-eggenfelden.de
SUMMARY:Heimspiel ab 9 Uhr
DESCRIPTION:Damen 1 – SV Hörgertshausen // \nHerren 1 – TC Hengersberg 2
URL:https://tc-eggenfelden.de/event/heimspiel-ab-9-uhr-2/
CATEGORIES:Wettspielbetrieb
END:VEVENT
BEGIN:VEVENT
DTSTART;VALUE=DATE:20230507
DTEND;VALUE=DATE:20230508
DTSTAMP:20260424T205334
CREATED:20230307T094251Z
LAST-MODIFIED:20230307T094251Z
UID:74381-1683417600-1683503999@tc-eggenfelden.de
SUMMARY:Heimspiel ab 14 Uhr
DESCRIPTION:Damen 2 – TC Bad Birnbach
URL:https://tc-eggenfelden.de/event/heimspiel-ab-14-uhr-2/
CATEGORIES:Wettspielbetrieb
END:VEVENT
BEGIN:VEVENT
DTSTART;VALUE=DATE:20230507
DTEND;VALUE=DATE:20230508
DTSTAMP:20260424T205334
CREATED:20230307T094436Z
LAST-MODIFIED:20230307T094436Z
UID:74383-1683417600-1683503999@tc-eggenfelden.de
SUMMARY:Heimspiel ab 15 Uhr
DESCRIPTION:Dunlop Midcourt U10 – TC Rot-Weiß Eichendorf // \nDunlop Kleinfeld U8 – TSV Marktl // \nDunlop Kleinfeld U8 2 – TC Blau-Weiß Fürstenzell 2
URL:https://tc-eggenfelden.de/event/heimspiel-ab-15-uhr-2/
CATEGORIES:Wettspielbetrieb
END:VEVENT
BEGIN:VEVENT
DTSTART;VALUE=DATE:20230513
DTEND;VALUE=DATE:20230514
DTSTAMP:20260424T205334
CREATED:20230307T094556Z
LAST-MODIFIED:20230307T094556Z
UID:74385-1683936000-1684022399@tc-eggenfelden.de
SUMMARY:Heimspiel ab 9 Uhr
DESCRIPTION:Bambini 12 – TC Weiß-Blau Landshut
URL:https://tc-eggenfelden.de/event/heimspiel-ab-9-uhr-3/
CATEGORIES:Wettspielbetrieb
END:VEVENT
BEGIN:VEVENT
DTSTART;VALUE=DATE:20230514
DTEND;VALUE=DATE:20230515
DTSTAMP:20260424T205334
CREATED:20230307T094744Z
LAST-MODIFIED:20230307T094744Z
UID:74389-1684022400-1684108799@tc-eggenfelden.de
SUMMARY:Heimspiel ab 9 Uhr
DESCRIPTION:Damen – DJK Altdorf
URL:https://tc-eggenfelden.de/event/heimspiel-ab-9-uhr-4/
CATEGORIES:Wettspielbetrieb
END:VEVENT
BEGIN:VEVENT
DTSTART;VALUE=DATE:20230521
DTEND;VALUE=DATE:20230522
DTSTAMP:20260424T205334
CREATED:20230307T094942Z
LAST-MODIFIED:20230307T094942Z
UID:74393-1684627200-1684713599@tc-eggenfelden.de
SUMMARY:Heimspiel ab 9 Uhr
DESCRIPTION:Herren 2 – TV Altötting 2 // Damen 2 – FC 64 Kirchberg
URL:https://tc-eggenfelden.de/event/heimspiel-ab-9-uhr-5/
CATEGORIES:Wettspielbetrieb
END:VEVENT
END:VCALENDAR